Workbook
Name _Ref99382350: מחוון!#REF!

Sheet מחוון
A1: מס' מציע: ______________________ | L1: מינ' | M1: 7
L2: מקס' | M2: 10
A3: סעיף ראשי | B3: סעיף משנה | C3: ההיקף הנדרש | D3: מרכיב ציון | F3: משקל | G3: היקף שהוצג | H3: ציון משוקלל לסעיף | I3: ציון כולל | J3: היקף מינימום | K3: היקף מקסימום | L3: הפרש | M3: =M2-M1 -> 3
A5: ניסיון המציע | B5: ניסיון בניהול פרוייקטים ו/או פיקוח על פרוייקטים בתחום הבניה במבני ציבור/מסחר/תעשייה בהיקף של 25 פרוייקטים של 100,000 ₪ לפחות בכל שנה או בהיקף של 15 פרויקטים בכל אחת מהשנים הנ"ל, ההיקף הכספי המינימלי של כל פרויקט עומד על 150,000 ₪. | C5: שנות ניסיון בביצוע הפעילות | D5: פחות מ- 3 שנים | E5: פסול | F5: 0.7 | H5: =IF(G5<J5,0,IF(G5=J5,$M$1,IF(G5>K5,$M$2,$M$3/(K5-J5)*(G5-J5)+$M$1))) -> 0 | J5: 3 | K5: 5 | L5: =SUM(F5:F8) -> 0.7
D6: 3 שנים | E6: 5
D7: 4 | E7: 7.5
D8: 5 שנים ומעלה | E8: 10
A9: חוות דעת על המציע | B9: חוות דעת שנלקחה מאנשי הקשר כפי שמפורט בטופס בדיקת ההצעות (*) | C9: ציון 1 - 10 | D9: חוות דעת מס' 1 | F9: 0.1 | H9: =G9*F9 -> 0 | L9: =SUM(F9:F11) -> 0.3
D10: חוות דעת מס' 2 | F10: 0.1 | H10: =G10*F10 -> 0
D11: חוות דעת מס' 3 | F11: 0.1 | H11: =G11*F11 -> 0
A12: צוות המציע | B12: מנהל הפרוייקט | C12: שנות ניסיון בניהול פרוייקטים של תכנון ו/או פיקוח על עבודות שיפוץ של מבני ציבור שהיקפם הכספי הכולל עמד על לפחות 7,500,000 ₪ . | D12: פחות מ- 3 שנים | E12: 0 | F12: 0.4 | H12: =IF(G12<J12,0,IF(G12=J12,$M$1,IF(G12>K12,$M$2,$M$3/(K12-J12)*(G12-J12)+$M$1))) -> 0 | I12: =H12*F12+H16*F16 -> 0 | J12: 3 | K12: 8 | L12: =SUM(F12:F18) -> 0.7
D13: 3 שנים | E13: 5
D14: 4-7 שנים | E14: לכל שנה +1.25
D15: 8 שנים ומעלה | E15: 10
C16: השכלת מנהל הפרוייקט | D16: תואר ראשון בהנדסת בניין | E16: 0 | F16: 0.3 | H16: =IF(G16<J16,0,IF(G16=J16,$M$1,IF(G16>K16,$M$2,$M$3/(K16-J16)*(G16-J16)+$M$1))) -> 0 | J16: 20 | K16: 40
D17: תואר שני אחר | E17: 8
D18: תואר שני בהנדסת בניין | E18: 10
B20: חוות דעת על מנהל הפרויקט עפ"י חוות דעת שנלקחה מאנשי הקשר כפי שמפורט בטופס בדיקת ההצעות | C20: ציון 1 - 10 | D20: חוות דעת מס' 1 | F20: 0.1 | H20: =G20*F20 -> 0 | L20: =SUM(F20:F22) -> 0.3
D21: חוות דעת מס' 2 | F21: 0.1 | H21: =G21*F21 -> 0
D22: חוות דעת מס' 3 | F22: 0.1 | H22: =G22*F22 -> 0
A23: שם וחתימה | D23: שם וחתימה | H23: שם וחתימה
A24: שם וחתימה | D24: שם וחתימה | H24: שם וחתימה
A26: הערה : בכל הקשור לתנאי סף - אם פסול באחד הפרטים ההצעה תפסל על הסף ולא ייערך שיקלול של המרכיבים האחרים
A28: (*) אם ההצעה היא מטעם מציע שזכה בעבר במכרז של המשרד או שלמשרד היכרות אחרת עמו או מידע לגביו, ילקח בחשבון, כאחד מהשיקולים המכריעים, אופן ביצוע התחייבויות המציע, לרבות עמידה בלוח זמנים ואיכות העבודות ורמת השירות.

Sheet קריטריונים
A1: המשרד | B1: משרד החינוך | C1: מכרז מס': | D1: ='סיכום הצעות'!D1 -> הנושא: מכרז מתן שירותי בדיקה, ליווי, מעקב ובקרה על ביצוע תשלומים עבור עבודות בינוי (כגון: חידוש מבנים, הסדרת נגישות ,שדרוג תשתיות), המבוצעות במוסדות חינוך באמצעות הרשויות המקומיות | I1: דף: | J1: 1 | K1: קוד מכרז:
A2: היחידה | B2: המינהל לפיתוח מערכת החינוך | C2: ='סיכום הצעות'!C2 -> 42/8.2022 | I2: מתוך: | J2: 2 | K2: תאריך עדכון:
A3: פרוט הנושא | C3: יחידת ספירה | D3: משקל | E3: הצעה: | F3: 1 | G3: הצעה: | H3: 2 | I3: הצעה: | J3: 3 | K3: הצעה: | L3: 4 | M3: הערות
D4: יחסי | E4: ערך | F4: ציון | G4: ערך | H4: ציון | I4: ערך | J4: ציון | K4: ערך | L4: ציון
A5: נסיון המציע | B5: =מחוון!B5 -> ניסיון בניהול פרוייקטים ו/או פיקוח על פרוייקטים בתחום הבניה במבני ציבור/מסחר/תעשייה בהיקף של 25 פרוייקטים של 100,000 ₪ לפחות בכל שנה או בהיקף של 15 פרויקטים בכל אחת מהשנים הנ"ל, ההיקף הכספי המינימלי של כל פרויקט עומד על 150,000 ₪. | C5: עפ"י היקפים מינימליים נדרשים | D5: 1 | M5: עפ"י המחוון
B6: ציון משוקלל לנושא | D6: =SUM(D5:D5) -> 1
A7: חוות דעת | B7: חוות דעת | C7: ציון 1-10 | D7: 1 | M7: עפ"י המחוון
B8: ציון משוקלל לנושא | D8: =SUM(D7) -> 1
A9: מנהל הפרויקט | B9: ניסיון של מנהל הפרויקט | C9: ציון 1-10 | D9: =מחוון!F12 -> 0.4 | M9: עפ"י המחוון
B10: =מחוון!C16 -> השכלת מנהל הפרוייקט | C10: ציון 1-10 | D10: =מחוון!F16 -> 0.3
B11: חוות דעת על מנהל הפרויקט | C11: ציון 1-10 | D11: 0.3 | M11: עפ"י המחוון
B12: ציון משוקלל לנושא | D12: =SUM(D9:D11) -> 1
A13: הצעת המחיר | B13: פרוט הנושא | C13: יחידת חישוב | D13: כמות | E13: הצעה: | F13: 1 | G13: הצעה: | H13: 2 | I13: הצעה: | J13: 3 | K13: הצעה: | L13: 4 | M13: הערות
E14: ערך | F14: ציון | G14: ערך | H14: ציון | I14: ערך | J14: ציון | K14: ערך | L14: ציון
B15: מעקב ובקרה על חידוש מבנים, הסדרת נגישות ושידרוג תשתיות:
B16: מחיר לטיפול בדיווח לתשלום בפרוייקט | C16: השלמת הטיפול | D16: 2000
B17: בקרת שטח של בניית מוסדות חינוך חדשים:
B18: מחיר לבקרת שטח של מוסד חדש והפקת דו"ח בקרה | C18: ביצוע בקרה | D18: 300
B19: בדיקת שלמות הנתונים בטפסי קרקע:
B20: מחיר לבדיקת טופס קרקע והכנת דו"ח ממצאים | C20: בדיקת טופס | D20: 2000
B21: מחיר לבדיקת טופס לבדיקת מצאי פיזי והכנת דו"ח ממצאים | C21: בדיקת טופס | D21: 500
B22: הכנת נתונים עבור בקשות בתחום פעילות אגף מיפוי ותכנון:
B23: עבור ישוב עד 20 אלף תושבים. | C23: השלמת דו"ח | D23: 150
B24: עבור ישוב מעל 20 אלף ועד 50 אלף תושבים. | C24: השלמת דו"ח | D24: 70
B25: עבור ישוב מעל 50 אלף ועד 100 אלף תושבים. | C25: השלמת דו"ח | D25: 25
B26: עבור ישוב מעל 100 אלף תושבים | C26: השלמת דו"ח | D26: 20
B27: סה"כ הצעת המחיר ללא מע"מ
B28: סה"כ הצעת המחיר כולל מע"מ

Sheet סיכום הצעות
A1: משרד החינוך | C1: מכרז מס': | D1: הנושא: מכרז מתן שירותי בדיקה, ליווי, מעקב ובקרה על ביצוע תשלומים עבור עבודות בינוי (כגון: חידוש מבנים, הסדרת נגישות ,שדרוג תשתיות), המבוצעות במוסדות חינוך באמצעות הרשויות המקומיות | H1: דף: | I1: 2 | J1: קוד מכרז:
A2: המינהל לפיתוח מערכת החינוך | C2: 42/8.2022 | H2: מתוך: | I2: 2 | J2: תאריך עדכון:
D3: סה"כ משקל סעיפי איכות: | G3: =+C23 -> 0.35 | H3: משקל מחיר: | I3: 0.4 | J3: הערכה כוללת
A4: מספר | B4: שם המציע | C4: הקריטריון | D4: נסיון הגוף המציע | E4: חוות דעת | F4: מנהל הפרויקט | G4: ציון סעיפי האיכות | H4: מחיר משוקלל | I4: ציון המחיר | J4: ציון סופי משוקלל | K4: דירוג יחסי
C7: משקל יחסי => | D7: 0.5 | E7: 0.2 | F7: 0.3 | G7: =SUM(D7:F7) -> 1 | H7: 1 | I7: 1
A8: 1 | C8: ציון מוחלט =>
C9: ציון יחסי =>>
A10: 2 | C10: ציון מוחלט =>
C11: ציון יחסי =>>
A12: 3 | C12: ציון מוחלט =>
C13: ציון יחסי =>>
A14: 4 | C14: ציון מוחלט =>
C15: ציון יחסי =>>
A16: 5 | C16: ציון מוחלט =>
C17: ציון יחסי =>>
A18: 6 | C18: ציון מוחלט =>
C19: ציון יחסי =>>
H20: =MIN(H8,H10,H12,H14,H16,H18) -> 0
B23: משקל סעיפי האיכות | C23: 0.35
B24: משקל מחיר | C24: 0.65
B25: סה"כ | C25: =SUM(C23:C24) -> 1
B27: ציון מעבר מציון כולל של סעיפי האיכות לציון המחיר | C27: 0.8
B29: ציון מינימום נדרש בכל אחד מסעיפי האיכות בפני עצמו הינו | F29: 0.7
